BEGIN:VCALENDAR
VERSION:2.0
PRODID:-//AudioTheme 2.3.3
BEGIN:VEVENT
UID:urn:uuid:4f94287d-ae58-4cd9-bef5-1a3b3ee7c0ab
URL:https://drdourandpeach.com/shows/festival-of-ghouls/
DTSTART;TZID=GMT:20201031T210000
SUMMARY:Festival of Ghouls
DESCRIPTION:"Love and Other Lures" at Fable Cry's Festival of Ghouls!
LOCATION:Festival of Ghouls
END:VEVENT
END:VCALENDAR
